BEGIN:VCALENDAR
VERSION:2.0
PRODID:-//Moldgreen United Reformed Church Huddersfield - ECPv5.15.0.1//NONSGML v1.0//EN
CALSCALE:GREGORIAN
METHOD:PUBLISH
X-WR-CALNAME:Moldgreen United Reformed Church Huddersfield
X-ORIGINAL-URL:https://www.moldgreenurc.org.uk
X-WR-CALDESC:Events for Moldgreen United Reformed Church Huddersfield
BEGIN:VTIMEZONE
TZID:UTC
BEGIN:STANDARD
TZOFFSETFROM:+0000
TZOFFSETTO:+0000
TZNAME:UTC
DTSTART:20250101T000000
END:STANDARD
END:VTIMEZONE
BEGIN:VEVENT
DTSTART;TZID=UTC:20250125T090000
DTEND;TZID=UTC:20250125T140000
DTSTAMP:20260424T134506
CREATED:20240702T123844Z
LAST-MODIFIED:20241231T142445Z
UID:7961-1737795600-1737813600@www.moldgreenurc.org.uk
SUMMARY:Tumble Tots
DESCRIPTION:Tumble Tots is a physical activity programme for children 6 months to 7 years. Each class is designed specifically for the different development stages of young children. \nTumble Tots classes run at the church on Wednesdays and Saturdays during school term time.  \n6 months to confidently walking\, Walking to 2 years\, 2-3 years\, 3 years to schoolage\, schoolage to 7 years.  \nMy full timetable with class times\, prices and availability can be found at www.tumbletots.com/huddersfield/book \nTo watch a video about our classes please follow the link below: \nhttps://m.youtube.com/watch?v=EKS8CYmI3Zk
URL:https://www.moldgreenurc.org.uk/event/tumble-tots-170/
END:VEVENT
END:VCALENDAR