BEGIN:VCALENDAR
VERSION:2.0
PRODID:-//Moldgreen United Reformed Church Huddersfield - ECPv5.15.0.1//NONSGML v1.0//EN
CALSCALE:GREGORIAN
METHOD:PUBLISH
X-WR-CALNAME:Moldgreen United Reformed Church Huddersfield
X-ORIGINAL-URL:https://www.moldgreenurc.org.uk
X-WR-CALDESC:Events for Moldgreen United Reformed Church Huddersfield
BEGIN:VTIMEZONE
TZID:UTC
BEGIN:STANDARD
TZOFFSETFROM:+0000
TZOFFSETTO:+0000
TZNAME:UTC
DTSTART:20250101T000000
END:STANDARD
END:VTIMEZONE
BEGIN:VEVENT
DTSTART;TZID=UTC:20250124T140000
DTEND;TZID=UTC:20250124T153000
DTSTAMP:20260424T152731
CREATED:20230521T130144Z
LAST-MODIFIED:20241231T151342Z
UID:5848-1737727200-1737732600@www.moldgreenurc.org.uk
SUMMARY:Shared Harmonies
DESCRIPTION:Sing & Breath \nA friendly group using breathing and singing techniques to help people gain greater self management of the symptoms of their respiratory condition. \nBritish Lung Foundation Approved \nFor more information contact jackie@sharedharmonies.co.uk
URL:https://www.moldgreenurc.org.uk/event/shared-harmonies-3/
END:VEVENT
END:VCALENDAR